BEGIN:VCALENDAR
VERSION:2.0
PRODID:-//SP Bischofszell - ECPv6.15.6//NONSGML v1.0//EN
CALSCALE:GREGORIAN
METHOD:PUBLISH
X-WR-CALNAME:SP Bischofszell
X-ORIGINAL-URL:https://sp-bischofszell.ch
X-WR-CALDESC:Veranstaltungen im SP Bischofszell
REFRESH-INTERVAL;VALUE=DURATION:PT1H
X-Robots-Tag:noindex
X-PUBLISHED-TTL:PT1H
BEGIN:VTIMEZONE
TZID:Europe/Zurich
BEGIN:DAYLIGHT
TZOFFSETFROM:+0100
TZOFFSETTO:+0200
TZNAME:CEST
DTSTART:20250330T010000
END:DAYLIGHT
BEGIN:STANDARD
TZOFFSETFROM:+0200
TZOFFSETTO:+0100
TZNAME:CET
DTSTART:20251026T010000
END:STANDARD
BEGIN:DAYLIGHT
TZOFFSETFROM:+0100
TZOFFSETTO:+0200
TZNAME:CEST
DTSTART:20260329T010000
END:DAYLIGHT
BEGIN:STANDARD
TZOFFSETFROM:+0200
TZOFFSETTO:+0100
TZNAME:CET
DTSTART:20261025T010000
END:STANDARD
BEGIN:DAYLIGHT
TZOFFSETFROM:+0100
TZOFFSETTO:+0200
TZNAME:CEST
DTSTART:20270328T010000
END:DAYLIGHT
BEGIN:STANDARD
TZOFFSETFROM:+0200
TZOFFSETTO:+0100
TZNAME:CET
DTSTART:20271031T010000
END:STANDARD
END:VTIMEZONE
BEGIN:VEVENT
DTSTART;TZID=Europe/Zurich:20260706T183000
DTEND;TZID=Europe/Zurich:20260706T220000
DTSTAMP:20260422T181055
CREATED:20251021T142813Z
LAST-MODIFIED:20251021T142813Z
UID:88715-1783362600-1783375200@sp-bischofszell.ch
SUMMARY:Waldschenkehöck SP Bischofszell und Umgebung
DESCRIPTION:Auch dieses Jahr werden wir uns zum traditionellen SP Waldschenke Höck unserer Sektion Bischofszell und Umgebung treffen. \nDatum: Montag\, 6. Juli 2026\nOrt: Waldschenke Bischofszell (nur bei schönem Wetter)\nZeit: ab 18.30 Uhr Nachtessen und ungezwungenes Beisammensein \nNatürlich wie immer mit Partnerin/Partner/Kinder und ohne Traktandenliste. Auch in diesem Jahr sind unsere Kolleginnen und Kollegen der SP Sektionen Weinfelden und AachThurLand herzlichen dazu eingeladen.
URL:https://sp-bischofszell.ch/veranstaltung/waldschenkehoeck-sp-bischofszell-und-umgebung/
LOCATION:Waldschenke Bischofszell\, Waldschenkestrasse\, 9220 Bischofszell
ATTACH;FMTTYPE=image/jpeg:https://sp-bischofszell.ch/wp-content/uploads/sites/13/2025/10/Waldschenke-2025-3.jpg
END:VEVENT
END:VCALENDAR